BEGIN:VCALENDAR
VERSION:2.0
PRODID:-//arlegalaid.org//NONSGML kigkonsult.se iCalcreator 2.30.10//
CALSCALE:GREGORIAN
METHOD:PUBLISH
UID:51731425-1101-4483-bab8-49b996249d85
X-WR-CALDESC:VIRTUAL CLE\n'Pro Bono Service in Arkansas: Responsibilities\,
  Rules\, & Opportunity' \nJoin us for a discussion of Professional Pro Bon
 o Requirements in Arkansas as well as presentation of varied volunteer opp
 ortunities.\n1 ETHICS HOUR\nPresenters: Lee Richardson\, Executive Directo
 r\, Legal Aid of Arkansas\nAshley Norman\, Pro Bono Director\, Legal Aid o
 f Arkansas\nRegister via Zoom here:  https://us06web.zoom.us/meeting/regis
 ter/tZYude2vrj0vE93nN3brBt4BxfdxH2pV6J18 \n
X-WR-RELCALID:971c752b257b3a303342b66369d6d434
X-WR-TIMEZONE:America/Chicago
BEGIN:VTIMEZONE
TZID:America/Chicago
BEGIN:STANDARD
TZNAME:CST
DTSTART:20221106T020000
TZOFFSETFROM:-0500
TZOFFSETTO:-0600
RDATE:20231105T020000
RDATE:20241103T020000
END:STANDARD
BEGIN:DAYLIGHT
TZNAME:CDT
DTSTART:20230312T020000
TZOFFSETFROM:-0600
TZOFFSETTO:-0500
RDATE:20240310T020000
RDATE:20250309T020000
END:DAYLIGHT
END:VTIMEZONE
BEGIN:VEVENT
UID:215816d2-25c9-4865-a594-eaaf1de36658
DTSTAMP:20260421T185400Z
DESCRIPTION:VIRTUAL CLE\n'Pro Bono Service in Arkansas: Responsibilities\, 
 Rules\, & Opportunity' \nJoin us for a discussion of Professional Pro Bono
  Requirements in Arkansas as well as presentation of varied volunteer oppo
 rtunities.\n1 ETHICS HOUR\nPresenters: Lee Richardson\, Executive Director
 \, Legal Aid of Arkansas\nAshley Norman\, Pro Bono Director\, Legal Aid of
  Arkansas\nRegister via Zoom here:  https://us06web.zoom.us/meeting/regist
 er/tZYude2vrj0vE93nN3brBt4BxfdxH2pV6J18 \n
DTSTART;TZID=America/Chicago:20231005T120000
DTEND;TZID=America/Chicago:20231005T130000
LOCATION:VIRTUAL
SUMMARY:FREE Virtual CLE: Pro Bono Service in AR
END:VEVENT
END:VCALENDAR
