BEGIN:VCALENDAR
VERSION:2.0
PRODID:-//arlegalaid.org//NONSGML kigkonsult.se iCalcreator 2.30.10//
CALSCALE:GREGORIAN
METHOD:PUBLISH
UID:6a47311e-6f1f-477f-8921-3b0272a7c29c
X-WR-CALDESC:VIRTUAL CLE\n'Planning Simple Estate Efficiently'\nJoin us for
  an introduction to intestacy laws and probate in Arkansas and learn how t
 o prepare documents\, including simple wills\, beneficiary deeds\, and pow
 ers of attorney \n1 GENERAL HOUR\nPresenter: Mason Gates\, Attorney\, Equa
 l Justice Fellow\, Legal Aid of Arkansas\nRegister here: https://us06web.z
 oom.us/meeting/register/tZwuc-CsqTsoH9YXciLT_0o7lpPHzVuguJ6X\n\n
X-WR-RELCALID:620925d33bf498e1e2a61d333c2b9be5
X-WR-TIMEZONE:America/Chicago
BEGIN:VTIMEZONE
TZID:America/Chicago
BEGIN:STANDARD
TZNAME:CST
DTSTART:20221106T020000
TZOFFSETFROM:-0500
TZOFFSETTO:-0600
RDATE:20231105T020000
RDATE:20241103T020000
END:STANDARD
BEGIN:DAYLIGHT
TZNAME:CDT
DTSTART:20230312T020000
TZOFFSETFROM:-0600
TZOFFSETTO:-0500
RDATE:20240310T020000
RDATE:20250309T020000
END:DAYLIGHT
END:VTIMEZONE
BEGIN:VEVENT
UID:80a308cc-4f43-4cac-93cf-760e6f325941
DTSTAMP:20260421T185241Z
DESCRIPTION:VIRTUAL CLE\n'Planning Simple Estate Efficiently'\nJoin us for 
 an introduction to intestacy laws and probate in Arkansas and learn how to
  prepare documents\, including simple wills\, beneficiary deeds\, and powe
 rs of attorney \n1 GENERAL HOUR\nPresenter: Mason Gates\, Attorney\, Equal
  Justice Fellow\, Legal Aid of Arkansas\nRegister here: https://us06web.zo
 om.us/meeting/register/tZwuc-CsqTsoH9YXciLT_0o7lpPHzVuguJ6X\n\n
DTSTART;TZID=America/Chicago:20231019T120000
DTEND;TZID=America/Chicago:20231019T130000
LOCATION:VIRTUAL
SUMMARY:FREE Virtual CLE: Planning Simple Estate Efficiently
END:VEVENT
END:VCALENDAR
