BEGIN:VCALENDAR
VERSION:2.0
PRODID:-//arlegalaid.org//NONSGML kigkonsult.se iCalcreator 2.30.10//
CALSCALE:GREGORIAN
METHOD:PUBLISH
UID:0133f967-3b91-4470-81d2-68d4048b1245
X-WR-CALDESC:Sign up by clicking on the link.
X-WR-RELCALID:92c646dbbe4b04307eff8f4b7f8f3135
X-WR-TIMEZONE:America/Chicago
BEGIN:VTIMEZONE
TZID:America/Chicago
BEGIN:STANDARD
TZNAME:CST
DTSTART:20221106T020000
TZOFFSETFROM:-0500
TZOFFSETTO:-0600
RDATE:20231105T020000
RDATE:20241103T020000
END:STANDARD
BEGIN:DAYLIGHT
TZNAME:CDT
DTSTART:20230312T020000
TZOFFSETFROM:-0600
TZOFFSETTO:-0500
RDATE:20240310T020000
RDATE:20250309T020000
END:DAYLIGHT
END:VTIMEZONE
BEGIN:VEVENT
UID:a9d1edd6-95c5-44c2-b417-d8a8c444356c
DTSTAMP:20260421T185651Z
DESCRIPTION:Sign up by clicking on the link.
DTSTART;TZID=America/Chicago:20231020T090000
DTEND;TZID=America/Chicago:20231020T120000
LOCATION:Washington County Law Library
SUMMARY:Help Desk: Washington County Law Library
END:VEVENT
END:VCALENDAR
