BEGIN:VCALENDAR
VERSION:2.0
PRODID:-//arlegalaid.org//NONSGML kigkonsult.se iCalcreator 2.30.10//
CALSCALE:GREGORIAN
METHOD:PUBLISH
UID:0d44b53f-93e6-4ce2-8370-994cbbf1f630
X-WR-CALDESC:Please pre-register by scanning QR code or calling 8709729224 
 ext. 4303 or register using this link: https://forms.office.com/r/ycYSh0uG
 X6
X-WR-RELCALID:44ff5e6be623c1e0adce1de70f54954d
X-WR-TIMEZONE:America/Chicago
BEGIN:VTIMEZONE
TZID:America/Chicago
BEGIN:STANDARD
TZNAME:CST
DTSTART:20221106T020000
TZOFFSETFROM:-0500
TZOFFSETTO:-0600
RDATE:20231105T020000
RDATE:20241103T020000
END:STANDARD
BEGIN:DAYLIGHT
TZNAME:CDT
DTSTART:20230312T020000
TZOFFSETFROM:-0600
TZOFFSETTO:-0500
RDATE:20240310T020000
RDATE:20250309T020000
END:DAYLIGHT
END:VTIMEZONE
BEGIN:VEVENT
UID:c5bb6bdf-0ed4-4b25-8414-c8714726fa89
DTSTAMP:20260421T190023Z
DESCRIPTION:Please pre-register by scanning QR code or calling 8709729224 e
 xt. 4303 or register using this link: https://forms.office.com/r/ycYSh0uGX
 6
DTSTART;TZID=America/Chicago:20231023T090000
DTEND;TZID=America/Chicago:20231023T140000
LOCATION:NWACC Springdale Campus
SUMMARY:Name and Gender Correction and Estate Planning Clinic
END:VEVENT
END:VCALENDAR
