BEGIN:VCALENDAR
VERSION:2.0
PRODID:-//arlegalaid.org//NONSGML kigkonsult.se iCalcreator 2.30.10//
CALSCALE:GREGORIAN
METHOD:PUBLISH
UID:aebe63fd-bbe4-4c00-a1d6-cd5f964181e4
X-WR-CALDESC:Guardianship in Arkansas: The Basics'\nJoin us for a discussio
 n about guardianship laws in Arkansas and how to handle both minor and adu
 lt guardianships\n1 GENERAL HOUR\nPresenters:  Lindsey Schmeidler\, Senior
  Associate Attorney\, Legal Aid of Arkansas \nAshley Norman\, Pro Bono Dir
 ector\, Legal Aid of Arkansas \nRegister here: https://us06web.zoom.us/mee
 ting/register/tZ0pf-uprTIiG9JIZvpVjqOQ0MLctlIhp1_Q
X-WR-RELCALID:21ec6b23182d0d79620d1b2bb3f236c6
X-WR-TIMEZONE:America/Chicago
BEGIN:VTIMEZONE
TZID:America/Chicago
BEGIN:STANDARD
TZNAME:CST
DTSTART:20221106T020000
TZOFFSETFROM:-0500
TZOFFSETTO:-0600
RDATE:20231105T020000
RDATE:20241103T020000
END:STANDARD
BEGIN:DAYLIGHT
TZNAME:CDT
DTSTART:20230312T020000
TZOFFSETFROM:-0600
TZOFFSETTO:-0500
RDATE:20240310T020000
RDATE:20250309T020000
END:DAYLIGHT
END:VTIMEZONE
BEGIN:VEVENT
UID:d7849546-67c3-4498-86df-6e9c91dd42ff
DTSTAMP:20260421T185343Z
DESCRIPTION:Guardianship in Arkansas: The Basics'\nJoin us for a discussion
  about guardianship laws in Arkansas and how to handle both minor and adul
 t guardianships\n1 GENERAL HOUR\nPresenters:  Lindsey Schmeidler\, Senior 
 Associate Attorney\, Legal Aid of Arkansas \nAshley Norman\, Pro Bono Dire
 ctor\, Legal Aid of Arkansas \nRegister here: https://us06web.zoom.us/meet
 ing/register/tZ0pf-uprTIiG9JIZvpVjqOQ0MLctlIhp1_Q
DTSTART;TZID=America/Chicago:20231026T120000
DTEND;TZID=America/Chicago:20231026T130000
LOCATION:
SUMMARY:FREE Virtual CLE: Guardianship in AR
END:VEVENT
END:VCALENDAR
