BEGIN:VCALENDAR
VERSION:2.0
PRODID:-//arlegalaid.org//NONSGML kigkonsult.se iCalcreator 2.30.10//
CALSCALE:GREGORIAN
METHOD:PUBLISH
UID:2ca1b2fd-ab8b-4978-ad09-15bf5d68b285
X-WR-CALDESC:FREE: Join Us for a FREE Estate Planning\, Record Sealing\, Me
 dicaid Information and more clinic on November 1\, 2023\, from 10 AM to 2P
 M! \nLOCATION: \nHousing Authority\n327 Ward St.\nMarianna\, AR 72360 \nTh
 is event is designed to provide accessible support to individuals seeking 
 guidance on estate planning\, record sealing\, Medicaid unwinding\, and ot
 her legal concerns.\nRegistration is recommended! \nHow to register? You c
 an register by calling our Pro Bono Director at 870-972-9224 ext. 4303 OR
 \nRegister here: https://forms.office.com/r/p7SykDbqD4 \nOR you can scan t
 he QR code on the flyer. \n#estateplanning #recordsealing #medicaidunwindi
 ng #medicaidbenefits #legalaidofarkansas
X-WR-RELCALID:9aedab449074e38d47007aef366b5a25
X-WR-TIMEZONE:America/Chicago
BEGIN:VTIMEZONE
TZID:America/Chicago
BEGIN:STANDARD
TZNAME:CST
DTSTART:20221106T020000
TZOFFSETFROM:-0500
TZOFFSETTO:-0600
RDATE:20231105T020000
RDATE:20241103T020000
END:STANDARD
BEGIN:DAYLIGHT
TZNAME:CDT
DTSTART:20230312T020000
TZOFFSETFROM:-0600
TZOFFSETTO:-0500
RDATE:20240310T020000
RDATE:20250309T020000
END:DAYLIGHT
END:VTIMEZONE
BEGIN:VEVENT
UID:33a09925-dcc2-4299-987e-c10652c4f5b9
DTSTAMP:20260421T173059Z
DESCRIPTION:FREE: Join Us for a FREE Estate Planning\, Record Sealing\, Med
 icaid Information and more clinic on November 1\, 2023\, from 10 AM to 2PM
 ! \nLOCATION: \nHousing Authority\n327 Ward St.\nMarianna\, AR 72360 \nThi
 s event is designed to provide accessible support to individuals seeking g
 uidance on estate planning\, record sealing\, Medicaid unwinding\, and oth
 er legal concerns.\nRegistration is recommended! \nHow to register? You ca
 n register by calling our Pro Bono Director at 870-972-9224 ext. 4303 OR\n
 Register here: https://forms.office.com/r/p7SykDbqD4 \nOR you can scan the
  QR code on the flyer. \n#estateplanning #recordsealing #medicaidunwinding
  #medicaidbenefits #legalaidofarkansas
DTSTART;TZID=America/Chicago:20231101T100000
DTEND;TZID=America/Chicago:20231101T140000
LOCATION:Housing Authority 327 Ward St. Marianna\, AR 72360
SUMMARY:FREE Clinic: Estate Planning\, Record Sealing\, Medicaid Informatio
 n and More!
END:VEVENT
END:VCALENDAR
