BEGIN:VCALENDAR
VERSION:2.0
PRODID:-//arlegalaid.org//NONSGML kigkonsult.se iCalcreator 2.30.10//
CALSCALE:GREGORIAN
METHOD:PUBLISH
UID:f8307038-fca7-46f8-8296-d6742b6de446
X-WR-CALDESC:Sign up by clicking on the link.
X-WR-RELCALID:bd9f98f50512dc2f23c32d63ec74dcc6
X-WR-TIMEZONE:America/Chicago
BEGIN:VTIMEZONE
TZID:America/Chicago
BEGIN:STANDARD
TZNAME:CST
DTSTART:20221106T020000
TZOFFSETFROM:-0500
TZOFFSETTO:-0600
RDATE:20231105T020000
RDATE:20241103T020000
END:STANDARD
BEGIN:DAYLIGHT
TZNAME:CDT
DTSTART:20230312T020000
TZOFFSETFROM:-0600
TZOFFSETTO:-0500
RDATE:20240310T020000
RDATE:20250309T020000
END:DAYLIGHT
END:VTIMEZONE
BEGIN:VEVENT
UID:71295e75-d05c-4026-afa2-9f1fa4d7c7ee
DTSTAMP:20260421T173536Z
DESCRIPTION:Sign up by clicking on the link.
DTSTART;TZID=America/Chicago:20231103T090000
DTEND;TZID=America/Chicago:20231103T120000
LOCATION:Washington County Law Library
SUMMARY:Help Desk: Washington County Law Library
END:VEVENT
END:VCALENDAR
