BEGIN:VCALENDAR
VERSION:2.0
PRODID:-//arlegalaid.org//NONSGML kigkonsult.se iCalcreator 2.30.10//
CALSCALE:GREGORIAN
METHOD:PUBLISH
UID:43c4a191-c421-429a-9fd8-7fea05d2c18e
X-WR-CALDESC:Sign up by clicking on the link.
X-WR-RELCALID:3138d4695992dd4f43602d37a808f739
X-WR-TIMEZONE:America/Chicago
BEGIN:VTIMEZONE
TZID:America/Chicago
BEGIN:STANDARD
TZNAME:CST
DTSTART:20231105T020000
TZOFFSETFROM:-0500
TZOFFSETTO:-0600
RDATE:20241103T020000
END:STANDARD
BEGIN:DAYLIGHT
TZNAME:CDT
DTSTART:20230312T020000
TZOFFSETFROM:-0600
TZOFFSETTO:-0500
RDATE:20240310T020000
RDATE:20250309T020000
END:DAYLIGHT
END:VTIMEZONE
BEGIN:VEVENT
UID:62be3674-a5b6-4666-942c-cf72fc735bdc
DTSTAMP:20260421T172406Z
DESCRIPTION:Sign up by clicking on the link.
DTSTART;TZID=America/Chicago:20231110T090000
DTEND;TZID=America/Chicago:20231110T120000
LOCATION:Washington County Law Library
SUMMARY:Help Desk: Washington County Law Library
END:VEVENT
END:VCALENDAR
