BEGIN:VCALENDAR
VERSION:2.0
PRODID:-//arlegalaid.org//NONSGML kigkonsult.se iCalcreator 2.30.10//
CALSCALE:GREGORIAN
METHOD:PUBLISH
UID:5a5cec8a-1798-4783-bd3a-06fec4be3d30
X-WR-CALDESC:
X-WR-RELCALID:eb358821eddb37654c5147b49949fcbc
X-WR-TIMEZONE:America/Chicago
BEGIN:VTIMEZONE
TZID:America/Chicago
BEGIN:STANDARD
TZNAME:CST
DTSTART:20231105T020000
TZOFFSETFROM:-0500
TZOFFSETTO:-0600
RDATE:20241103T020000
END:STANDARD
BEGIN:DAYLIGHT
TZNAME:CDT
DTSTART:20230312T020000
TZOFFSETFROM:-0600
TZOFFSETTO:-0500
RDATE:20240310T020000
RDATE:20250309T020000
END:DAYLIGHT
END:VTIMEZONE
BEGIN:VEVENT
UID:ba5e44ca-ace4-479a-a6ac-3fe56fc693f5
DTSTAMP:20260421T173151Z
DESCRIPTION:
DTSTART;TZID=America/Chicago:20231116T140000
DTEND;TZID=America/Chicago:20231116T190000
LOCATION:
SUMMARY:FREE: Estate Planning\, Record Sealing\, Medicaid Info/ Medicaid St
 ory Collective and More!
END:VEVENT
END:VCALENDAR
