BEGIN:VCALENDAR
VERSION:2.0
PRODID:-//arlegalaid.org//NONSGML kigkonsult.se iCalcreator 2.30.10//
CALSCALE:GREGORIAN
METHOD:PUBLISH
UID:383d9477-ad2a-435f-bda7-81e03fb229a6
X-WR-CALDESC:Sign up by clicking on the link.
X-WR-RELCALID:9caff86e70b3b8897dc47662d6d83e7c
X-WR-TIMEZONE:America/Chicago
BEGIN:VTIMEZONE
TZID:America/Chicago
BEGIN:STANDARD
TZNAME:CST
DTSTART:20231105T020000
TZOFFSETFROM:-0500
TZOFFSETTO:-0600
RDATE:20241103T020000
END:STANDARD
BEGIN:DAYLIGHT
TZNAME:CDT
DTSTART:20230312T020000
TZOFFSETFROM:-0600
TZOFFSETTO:-0500
RDATE:20240310T020000
RDATE:20250309T020000
END:DAYLIGHT
END:VTIMEZONE
BEGIN:VEVENT
UID:b573e0dd-a90c-4c7e-b505-4caef68436af
DTSTAMP:20260421T172428Z
DESCRIPTION:Sign up by clicking on the link.
DTSTART;TZID=America/Chicago:20231117T090000
DTEND;TZID=America/Chicago:20231117T120000
LOCATION:Washington County Law Library
SUMMARY:Help Desk: Washington County Law Library
END:VEVENT
END:VCALENDAR
