BEGIN:VCALENDAR
VERSION:2.0
PRODID:-//arlegalaid.org//NONSGML kigkonsult.se iCalcreator 2.30.10//
CALSCALE:GREGORIAN
METHOD:PUBLISH
UID:90a561ba-8315-42a8-a570-0b1f1467a4ff
X-WR-CALDESC:Sign up by clicking on the link.
X-WR-RELCALID:88e019a7a35b4bf333acb2077d3e403b
X-WR-TIMEZONE:America/Chicago
BEGIN:VTIMEZONE
TZID:America/Chicago
BEGIN:STANDARD
TZNAME:CST
DTSTART:20231105T020000
TZOFFSETFROM:-0500
TZOFFSETTO:-0600
RDATE:20241103T020000
END:STANDARD
BEGIN:DAYLIGHT
TZNAME:CDT
DTSTART:20230312T020000
TZOFFSETFROM:-0600
TZOFFSETTO:-0500
RDATE:20240310T020000
RDATE:20250309T020000
END:DAYLIGHT
END:VTIMEZONE
BEGIN:VEVENT
UID:3dae3d56-67f6-444b-bf4a-0ee10aac2298
DTSTAMP:20260421T172505Z
DESCRIPTION:Sign up by clicking on the link.
DTSTART;TZID=America/Chicago:20231124T090000
DTEND;TZID=America/Chicago:20231124T120000
LOCATION:Washington County Law Library
SUMMARY:Help Desk: Washington County Law Library
END:VEVENT
END:VCALENDAR
