BEGIN:VCALENDAR
VERSION:2.0
PRODID:-//arlegalaid.org//NONSGML kigkonsult.se iCalcreator 2.30.10//
CALSCALE:GREGORIAN
METHOD:PUBLISH
UID:61bf1af4-06a0-4d28-a669-51476bed283f
X-WR-CALDESC:Sign up by clicking on the link.
X-WR-RELCALID:35855f57dcf0d283c4d09d0ba6684c83
X-WR-TIMEZONE:America/Chicago
BEGIN:VTIMEZONE
TZID:America/Chicago
BEGIN:STANDARD
TZNAME:CST
DTSTART:20231105T020000
TZOFFSETFROM:-0500
TZOFFSETTO:-0600
RDATE:20241103T020000
END:STANDARD
BEGIN:DAYLIGHT
TZNAME:CDT
DTSTART:20230312T020000
TZOFFSETFROM:-0600
TZOFFSETTO:-0500
RDATE:20240310T020000
RDATE:20250309T020000
END:DAYLIGHT
END:VTIMEZONE
BEGIN:VEVENT
UID:791a81d5-e974-4951-b22f-521341908f3f
DTSTAMP:20260423T093546Z
DESCRIPTION:Sign up by clicking on the link.
DTSTART;TZID=America/Chicago:20231201T090000
DTEND;TZID=America/Chicago:20231201T120000
LOCATION:Washington County Law Library
SUMMARY:Help Desk: Washington County Law Library
END:VEVENT
END:VCALENDAR
