BEGIN:VCALENDAR
VERSION:2.0
PRODID:-//arlegalaid.org//NONSGML kigkonsult.se iCalcreator 2.30.10//
CALSCALE:GREGORIAN
METHOD:PUBLISH
UID:ba446dea-0219-4610-997a-8a2dc351dd1b
X-WR-CALDESC:Sign up by clicking on the link.
X-WR-RELCALID:48603b01fc4954355706586be4bcf5d7
X-WR-TIMEZONE:America/Chicago
BEGIN:VTIMEZONE
TZID:America/Chicago
BEGIN:STANDARD
TZNAME:CST
DTSTART:20231105T020000
TZOFFSETFROM:-0500
TZOFFSETTO:-0600
RDATE:20241103T020000
END:STANDARD
BEGIN:DAYLIGHT
TZNAME:CDT
DTSTART:20230312T020000
TZOFFSETFROM:-0600
TZOFFSETTO:-0500
RDATE:20240310T020000
RDATE:20250309T020000
END:DAYLIGHT
END:VTIMEZONE
BEGIN:VEVENT
UID:352f5164-18aa-4133-bf2c-40a6049e06c6
DTSTAMP:20260421T161333Z
DESCRIPTION:Sign up by clicking on the link.
DTSTART;TZID=America/Chicago:20231208T090000
DTEND;TZID=America/Chicago:20231208T120000
LOCATION:Washington County Law Library
SUMMARY:Help Desk: Washington County Law Library
END:VEVENT
END:VCALENDAR
