BEGIN:VCALENDAR
VERSION:2.0
PRODID:-//arlegalaid.org//NONSGML kigkonsult.se iCalcreator 2.30.10//
CALSCALE:GREGORIAN
METHOD:PUBLISH
UID:bd1e5499-c090-4e39-ada0-fbfa2c556bcc
X-WR-CALDESC:Sign up by clicking on the link.
X-WR-RELCALID:dc31500223f35d0ddff4446684eaa158
X-WR-TIMEZONE:America/Chicago
BEGIN:VTIMEZONE
TZID:America/Chicago
BEGIN:STANDARD
TZNAME:CST
DTSTART:20231105T020000
TZOFFSETFROM:-0500
TZOFFSETTO:-0600
RDATE:20241103T020000
END:STANDARD
BEGIN:DAYLIGHT
TZNAME:CDT
DTSTART:20230312T020000
TZOFFSETFROM:-0600
TZOFFSETTO:-0500
RDATE:20240310T020000
RDATE:20250309T020000
END:DAYLIGHT
END:VTIMEZONE
BEGIN:VEVENT
UID:29376c2c-b72c-4b3c-ada9-34ab8f262b2a
DTSTAMP:20260423T093714Z
DESCRIPTION:Sign up by clicking on the link.
DTSTART;TZID=America/Chicago:20231229T090000
DTEND;TZID=America/Chicago:20231229T120000
LOCATION:Washington County Law Library
SUMMARY:Help Desk: Washington County Law Library
END:VEVENT
END:VCALENDAR
