BEGIN:VCALENDAR
VERSION:2.0
PRODID:-//arlegalaid.org//NONSGML kigkonsult.se iCalcreator 2.30.10//
CALSCALE:GREGORIAN
METHOD:PUBLISH
UID:4d89670c-a483-4e97-a617-84ff63a2f0ac
X-WR-CALDESC:Exciting News! Join us LIVE for 'A Preview of the 2024 Tax Sea
 son' featuring LITC Directors from Illinois and Arkansas! From unveiling t
 he new tax helpline to expert tips on maximizing your refund\, we've got y
 ou covered. Don't miss this unique opportunity!
X-WR-RELCALID:fa5f32316ec4712a36161b69a0c95fcd
X-WR-TIMEZONE:America/Chicago
BEGIN:VTIMEZONE
TZID:America/Chicago
BEGIN:STANDARD
TZNAME:CST
DTSTART:20231105T020000
TZOFFSETFROM:-0500
TZOFFSETTO:-0600
RDATE:20241103T020000
END:STANDARD
BEGIN:DAYLIGHT
TZNAME:CDT
DTSTART:20230312T020000
TZOFFSETFROM:-0600
TZOFFSETTO:-0500
RDATE:20240310T020000
RDATE:20250309T020000
END:DAYLIGHT
END:VTIMEZONE
BEGIN:VEVENT
UID:fc27e500-1e21-4ea8-8b38-9de07e7f7875
DTSTAMP:20260421T143714Z
DESCRIPTION:Exciting News! Join us LIVE for 'A Preview of the 2024 Tax Seas
 on' featuring LITC Directors from Illinois and Arkansas! From unveiling th
 e new tax helpline to expert tips on maximizing your refund\, we've got yo
 u covered. Don't miss this unique opportunity!
DTSTART;TZID=America/Chicago:20240110T110000
DTEND;TZID=America/Chicago:20240110T120000
LOCATION:https://www.facebook.com/arlegalaid
SUMMARY:Preview of the 2024 Tax Season on Facebook Live
END:VEVENT
END:VCALENDAR
