BEGIN:VCALENDAR
VERSION:2.0
PRODID:-//arlegalaid.org//NONSGML kigkonsult.se iCalcreator 2.30.10//
CALSCALE:GREGORIAN
METHOD:PUBLISH
UID:1297c84d-8a31-41b2-9aee-ebd405d34115
X-WR-CALDESC:To attend\, please fill out registration form: \nhttps://atten
 dee.gotowebinar.com/register/8516272147419049303
X-WR-RELCALID:473463b192792eaac45f4db448c75661
X-WR-TIMEZONE:America/Chicago
BEGIN:VTIMEZONE
TZID:America/Chicago
BEGIN:STANDARD
TZNAME:CST
DTSTART:20231105T020000
TZOFFSETFROM:-0500
TZOFFSETTO:-0600
RDATE:20241103T020000
END:STANDARD
BEGIN:DAYLIGHT
TZNAME:CDT
DTSTART:20230312T020000
TZOFFSETFROM:-0600
TZOFFSETTO:-0500
RDATE:20240310T020000
RDATE:20250309T020000
END:DAYLIGHT
END:VTIMEZONE
BEGIN:VEVENT
UID:84881350-e533-496e-aba8-56294e157a5b
DTSTAMP:20260421T142550Z
DESCRIPTION:To attend\, please fill out registration form: \nhttps://attend
 ee.gotowebinar.com/register/8516272147419049303
DTSTART;TZID=America/Chicago:20240126T130000
DTEND;TZID=America/Chicago:20240126T140000
LOCATION:https://attendee.gotowebinar.com/register/8516272147419049303
SUMMARY:Landlord Fair Housing Training
END:VEVENT
END:VCALENDAR
