BEGIN:VCALENDAR
VERSION:2.0
PRODID:-//arlegalaid.org//NONSGML kigkonsult.se iCalcreator 2.30.10//
CALSCALE:GREGORIAN
METHOD:PUBLISH
UID:c7b61fe8-408c-4a69-9f31-d11624241e19
X-WR-CALDESC:
X-WR-RELCALID:744ceca8b510b5c2126fa556c9003b60
X-WR-TIMEZONE:America/Chicago
BEGIN:VTIMEZONE
TZID:America/Chicago
BEGIN:STANDARD
TZNAME:CST
DTSTART:20231105T020000
TZOFFSETFROM:-0500
TZOFFSETTO:-0600
RDATE:20241103T020000
END:STANDARD
BEGIN:DAYLIGHT
TZNAME:CDT
DTSTART:20230312T020000
TZOFFSETFROM:-0600
TZOFFSETTO:-0500
RDATE:20240310T020000
RDATE:20250309T020000
END:DAYLIGHT
END:VTIMEZONE
BEGIN:VEVENT
UID:69ced996-d534-4aec-a9ab-a7bb23c6a0c4
DTSTAMP:20260421T143634Z
DESCRIPTION:
DTSTART;TZID=America/Chicago:20240129T050000
DTEND;TZID=America/Chicago:20240129T050001
LOCATION:2925 Old Missouri Rd\, Fayetteville\, AR 72703 US
SUMMARY:Record Sealing Clinic in Fayetteville
END:VEVENT
END:VCALENDAR
