BEGIN:VCALENDAR
VERSION:2.0
PRODID:-//arlegalaid.org//NONSGML kigkonsult.se iCalcreator 2.30.10//
CALSCALE:GREGORIAN
METHOD:PUBLISH
UID:236a50bc-16a1-4f75-b400-3a484e22709d
X-WR-CALDESC:Sign up: https://forms.office.com/r/CYVM2TuVsz
X-WR-RELCALID:1884c12960149c87a1fcab1c9049e0a7
X-WR-TIMEZONE:America/Chicago
BEGIN:VTIMEZONE
TZID:America/Chicago
BEGIN:STANDARD
TZNAME:CST
DTSTART:20231105T020000
TZOFFSETFROM:-0500
TZOFFSETTO:-0600
RDATE:20241103T020000
END:STANDARD
BEGIN:DAYLIGHT
TZNAME:CDT
DTSTART:20230312T020000
TZOFFSETFROM:-0600
TZOFFSETTO:-0500
RDATE:20240310T020000
RDATE:20250309T020000
END:DAYLIGHT
END:VTIMEZONE
BEGIN:VEVENT
UID:a2fdedb3-1495-400f-8f8f-91b078f3d695
DTSTAMP:20260421T131118Z
DESCRIPTION:Sign up: https://forms.office.com/r/CYVM2TuVsz
DTSTART;TZID=America/Chicago:20240217T050000
DTEND;TZID=America/Chicago:20240217T050001
LOCATION:425 Plaza St.\, West Helena\, AR\, AR 72390 US
SUMMARY:Super Saturday Event - Free tax preparation\, estate planning clini
 c\, and record sealing clinic
END:VEVENT
END:VCALENDAR
