BEGIN:VCALENDAR
VERSION:2.0
PRODID:-//arlegalaid.org//NONSGML kigkonsult.se iCalcreator 2.30.10//
CALSCALE:GREGORIAN
METHOD:PUBLISH
UID:3195e470-c1be-4233-a26c-ad0c4b4e99ab
X-WR-CALDESC:Sign up by clicking on the link.
X-WR-RELCALID:bd0f618afde4bdc3be30fd590315d42d
X-WR-TIMEZONE:America/Chicago
BEGIN:VTIMEZONE
TZID:America/Chicago
BEGIN:STANDARD
TZNAME:CST
DTSTART:20231105T020000
TZOFFSETFROM:-0500
TZOFFSETTO:-0600
RDATE:20241103T020000
END:STANDARD
BEGIN:DAYLIGHT
TZNAME:CDT
DTSTART:20230312T020000
TZOFFSETFROM:-0600
TZOFFSETTO:-0500
RDATE:20240310T020000
RDATE:20250309T020000
END:DAYLIGHT
END:VTIMEZONE
BEGIN:VEVENT
UID:6a9ff24f-c0ce-4755-8ac2-135170c9a0c0
DTSTAMP:20260421T130030Z
DESCRIPTION:Sign up by clicking on the link.
DTSTART;TZID=America/Chicago:20240223T090000
DTEND;TZID=America/Chicago:20240223T120000
LOCATION:Washington County Law Library
SUMMARY:Help Desk: Washington County Law Library
END:VEVENT
END:VCALENDAR
