BEGIN:VCALENDAR
VERSION:2.0
PRODID:-//arlegalaid.org//NONSGML kigkonsult.se iCalcreator 2.30.10//
CALSCALE:GREGORIAN
METHOD:PUBLISH
UID:722a4941-4a7b-42db-82d1-7c09e80dcb09
X-WR-CALDESC:Sign up: https://forms.office.com/r/CYVM2TuVsz
X-WR-RELCALID:f42f48a8a80e854898dca68da6da21df
X-WR-TIMEZONE:America/Chicago
BEGIN:VTIMEZONE
TZID:America/Chicago
BEGIN:STANDARD
TZNAME:CST
DTSTART:20231105T020000
TZOFFSETFROM:-0500
TZOFFSETTO:-0600
RDATE:20241103T020000
END:STANDARD
BEGIN:DAYLIGHT
TZNAME:CDT
DTSTART:20230312T020000
TZOFFSETFROM:-0600
TZOFFSETTO:-0500
RDATE:20240310T020000
RDATE:20250309T020000
END:DAYLIGHT
END:VTIMEZONE
BEGIN:VEVENT
UID:91a5932d-884e-432f-bab4-ec2c6fa2553c
DTSTAMP:20260421T125512Z
DESCRIPTION:Sign up: https://forms.office.com/r/CYVM2TuVsz
DTSTART;TZID=America/Chicago:20240224T050000
DTEND;TZID=America/Chicago:20240224T050001
LOCATION:St. Bernards Auditorium\, Jonesboro \, AR 72401 US
SUMMARY:Super Saturday Event --Free tax preparation\, estate planning clini
 c\, and record sealing clinic
END:VEVENT
END:VCALENDAR
