BEGIN:VCALENDAR
VERSION:2.0
PRODID:-//arlegalaid.org//NONSGML kigkonsult.se iCalcreator 2.30.10//
CALSCALE:GREGORIAN
METHOD:PUBLISH
UID:2d8205c4-38fc-4368-a9db-b41f2fd1078b
X-WR-CALDESC:
X-WR-RELCALID:4101e431511366f16c572498c7702541
X-WR-TIMEZONE:America/Chicago
BEGIN:VTIMEZONE
TZID:America/Chicago
BEGIN:STANDARD
TZNAME:CST
DTSTART:20231105T020000
TZOFFSETFROM:-0500
TZOFFSETTO:-0600
RDATE:20241103T020000
END:STANDARD
BEGIN:DAYLIGHT
TZNAME:CDT
DTSTART:20230312T020000
TZOFFSETFROM:-0600
TZOFFSETTO:-0500
RDATE:20240310T020000
RDATE:20250309T020000
END:DAYLIGHT
END:VTIMEZONE
BEGIN:VEVENT
UID:f1635d50-16b4-4f3b-b39e-342e5e9a1273
DTSTAMP:20260421T132427Z
DESCRIPTION:
DTSTART;TZID=America/Chicago:20240229T170000
DTEND;TZID=America/Chicago:20240229T200000
LOCATION:109 North Arkansas Street \, Rogers \, AR 72758 US
SUMMARY:Reproductive Health Clinic at Ozark Beer Co.
END:VEVENT
END:VCALENDAR
