BEGIN:VCALENDAR
VERSION:2.0
PRODID:-//arlegalaid.org//NONSGML kigkonsult.se iCalcreator 2.30.10//
CALSCALE:GREGORIAN
METHOD:PUBLISH
UID:3a97e966-2993-4aa5-b389-b04e0a3e3bb0
X-WR-CALDESC:Sign up by clicking on the link.
X-WR-RELCALID:7eed38b1e5c6b81283ddf41d2c92f49f
X-WR-TIMEZONE:America/Chicago
BEGIN:VTIMEZONE
TZID:America/Chicago
BEGIN:STANDARD
TZNAME:CST
DTSTART:20231105T020000
TZOFFSETFROM:-0500
TZOFFSETTO:-0600
RDATE:20241103T020000
END:STANDARD
BEGIN:DAYLIGHT
TZNAME:CDT
DTSTART:20230312T020000
TZOFFSETFROM:-0600
TZOFFSETTO:-0500
RDATE:20240310T020000
RDATE:20250309T020000
END:DAYLIGHT
END:VTIMEZONE
BEGIN:VEVENT
UID:a27ddc61-a52b-4605-aa67-bdb9bc0307fe
DTSTAMP:20260421T113618Z
DESCRIPTION:Sign up by clicking on the link.
DTSTART;TZID=America/Chicago:20240301T090000
DTEND;TZID=America/Chicago:20240301T120000
LOCATION:Washington County Law Library
SUMMARY:Help Desk: Washington County Law Library
END:VEVENT
END:VCALENDAR
