BEGIN:VCALENDAR
VERSION:2.0
PRODID:-//arlegalaid.org//NONSGML kigkonsult.se iCalcreator 2.30.10//
CALSCALE:GREGORIAN
METHOD:PUBLISH
UID:759c8326-640b-4328-9690-2fa30a0df133
X-WR-CALDESC:
X-WR-RELCALID:0def5dc180c8e71efeb3553db6bead57
X-WR-TIMEZONE:America/Chicago
BEGIN:VTIMEZONE
TZID:America/Chicago
BEGIN:STANDARD
TZNAME:CST
DTSTART:20231105T020000
TZOFFSETFROM:-0500
TZOFFSETTO:-0600
RDATE:20241103T020000
END:STANDARD
BEGIN:DAYLIGHT
TZNAME:CDT
DTSTART:20230312T020000
TZOFFSETFROM:-0600
TZOFFSETTO:-0500
RDATE:20240310T020000
RDATE:20250309T020000
END:DAYLIGHT
END:VTIMEZONE
BEGIN:VEVENT
UID:3ce004ee-f125-4f50-97bc-3807ea5fa0c7
DTSTAMP:20260421T113619Z
DESCRIPTION:
DTSTART;TZID=America/Chicago:20240302T090000
DTEND;TZID=America/Chicago:20240302T140000
LOCATION:2597 N. College \, Fayetteville \, AR 72701 US
SUMMARY:FREE Record Sealing
END:VEVENT
END:VCALENDAR
