BEGIN:VCALENDAR
VERSION:2.0
PRODID:-//arlegalaid.org//NONSGML kigkonsult.se iCalcreator 2.30.10//
CALSCALE:GREGORIAN
METHOD:PUBLISH
UID:1698c8d5-db7f-429f-a082-8cac08958af2
X-WR-CALDESC:
X-WR-RELCALID:a627e48ab372d5c2455889b148c689bb
X-WR-TIMEZONE:America/Chicago
BEGIN:VTIMEZONE
TZID:America/Chicago
BEGIN:STANDARD
TZNAME:CST
DTSTART:20231105T020000
TZOFFSETFROM:-0500
TZOFFSETTO:-0600
RDATE:20241103T020000
END:STANDARD
BEGIN:DAYLIGHT
TZNAME:CDT
DTSTART:20230312T020000
TZOFFSETFROM:-0600
TZOFFSETTO:-0500
RDATE:20240310T020000
RDATE:20250309T020000
END:DAYLIGHT
END:VTIMEZONE
BEGIN:VEVENT
UID:9e83e11a-1d67-4979-bf99-96da6cb28555
DTSTAMP:20260421T113618Z
DESCRIPTION:
DTSTART;TZID=America/Chicago:20240305T100000
DTEND;TZID=America/Chicago:20240305T120000
LOCATION:2005 E Highland Dr. \, Jonesboro \, AR 72401 US
SUMMARY:Name and Gender Correction and Estate Planning Clinic
END:VEVENT
END:VCALENDAR
