BEGIN:VCALENDAR
VERSION:2.0
PRODID:-//arlegalaid.org//NONSGML kigkonsult.se iCalcreator 2.30.10//
CALSCALE:GREGORIAN
METHOD:PUBLISH
UID:1bad50b6-28e7-4ed9-bfe4-89a89099dab2
X-WR-CALDESC:
X-WR-RELCALID:f72f734f2a7dfea8a36ca0881129744b
X-WR-TIMEZONE:America/Chicago
BEGIN:VTIMEZONE
TZID:America/Chicago
BEGIN:STANDARD
TZNAME:CST
DTSTART:20231105T020000
TZOFFSETFROM:-0500
TZOFFSETTO:-0600
RDATE:20241103T020000
END:STANDARD
BEGIN:DAYLIGHT
TZNAME:CDT
DTSTART:20230312T020000
TZOFFSETFROM:-0600
TZOFFSETTO:-0500
RDATE:20240310T020000
RDATE:20250309T020000
END:DAYLIGHT
END:VTIMEZONE
BEGIN:VEVENT
UID:4581db2d-cdc6-4d05-bc55-174fe5dc58f2
DTSTAMP:20260421T115251Z
DESCRIPTION:
DTSTART;TZID=America/Chicago:20240307T100000
DTEND;TZID=America/Chicago:20240307T140000
LOCATION:https://forms.office.com/r/AChxjFvc2c
SUMMARY:Name and Gender Correction and Estate Planning Clinic
END:VEVENT
END:VCALENDAR
