BEGIN:VCALENDAR
VERSION:2.0
PRODID:-//arlegalaid.org//NONSGML kigkonsult.se iCalcreator 2.30.10//
CALSCALE:GREGORIAN
METHOD:PUBLISH
UID:f35308d7-b0f8-4d58-a314-cbeee5cf3242
X-WR-CALDESC:Sign up by clicking on the link.
X-WR-RELCALID:f8255a97002cee65937daf514996015b
X-WR-TIMEZONE:America/Chicago
BEGIN:VTIMEZONE
TZID:America/Chicago
BEGIN:STANDARD
TZNAME:CST
DTSTART:20231105T020000
TZOFFSETFROM:-0500
TZOFFSETTO:-0600
RDATE:20241103T020000
END:STANDARD
BEGIN:DAYLIGHT
TZNAME:CDT
DTSTART:20240310T020000
TZOFFSETFROM:-0600
TZOFFSETTO:-0500
RDATE:20250309T020000
END:DAYLIGHT
END:VTIMEZONE
BEGIN:VEVENT
UID:bcd9391d-7e21-41a8-91fc-4016d6417c55
DTSTAMP:20260421T113311Z
DESCRIPTION:Sign up by clicking on the link.
DTSTART;TZID=America/Chicago:20240315T090000
DTEND;TZID=America/Chicago:20240315T120000
LOCATION:Washington County Law Library
SUMMARY:Help Desk: Washington County Law Library
END:VEVENT
END:VCALENDAR
