BEGIN:VCALENDAR
VERSION:2.0
PRODID:-//arlegalaid.org//NONSGML kigkonsult.se iCalcreator 2.30.10//
CALSCALE:GREGORIAN
METHOD:PUBLISH
UID:c59dbc2a-5327-4036-a160-e8d6d301b9a1
X-WR-CALDESC:Walk-ins welcome!
X-WR-RELCALID:0d7d4dbe2ffb2fc1bcc64e900f3ba329
X-WR-TIMEZONE:America/Chicago
BEGIN:VTIMEZONE
TZID:America/Chicago
BEGIN:STANDARD
TZNAME:CST
DTSTART:20231105T020000
TZOFFSETFROM:-0500
TZOFFSETTO:-0600
RDATE:20241103T020000
END:STANDARD
BEGIN:DAYLIGHT
TZNAME:CDT
DTSTART:20240310T020000
TZOFFSETFROM:-0600
TZOFFSETTO:-0500
RDATE:20250309T020000
END:DAYLIGHT
END:VTIMEZONE
BEGIN:VEVENT
UID:5e314938-9b82-48a9-92ce-a8b45c8bc0a4
DTSTAMP:20260421T115251Z
DESCRIPTION:Walk-ins welcome!
DTSTART;TZID=America/Chicago:20240319T100000
DTEND;TZID=America/Chicago:20240319T130000
LOCATION:Odell McCallum Community Center \, 325 Magnolia St. \, Wynne \, AR
  72396 US
SUMMARY:Estate Planning and Record Sealing Clinic
END:VEVENT
END:VCALENDAR
