BEGIN:VCALENDAR
VERSION:2.0
PRODID:-//arlegalaid.org//NONSGML kigkonsult.se iCalcreator 2.30.10//
CALSCALE:GREGORIAN
METHOD:PUBLISH
UID:2eb48774-5808-4b53-88f3-27483ea4bbc9
X-WR-CALDESC:Walk-ins welcome!
X-WR-RELCALID:5b8fb2c6aa748b3cd2c14cf214f0cb19
X-WR-TIMEZONE:America/Chicago
BEGIN:VTIMEZONE
TZID:America/Chicago
BEGIN:STANDARD
TZNAME:CST
DTSTART:20231105T020000
TZOFFSETFROM:-0500
TZOFFSETTO:-0600
RDATE:20241103T020000
END:STANDARD
BEGIN:DAYLIGHT
TZNAME:CDT
DTSTART:20240310T020000
TZOFFSETFROM:-0600
TZOFFSETTO:-0500
RDATE:20250309T020000
END:DAYLIGHT
END:VTIMEZONE
BEGIN:VEVENT
UID:a0b0f13c-3fdd-4a2d-b1c2-4fc3c00f9e18
DTSTAMP:20260421T113619Z
DESCRIPTION:Walk-ins welcome!
DTSTART;TZID=America/Chicago:20240320T100000
DTEND;TZID=America/Chicago:20240320T130000
LOCATION:Odell McCallum Community Center \, 325 Magnolia St. \, Wynne \, AR
  72396 US
SUMMARY:Estate Planning and Record Sealing
END:VEVENT
END:VCALENDAR
