BEGIN:VCALENDAR
VERSION:2.0
PRODID:-//arlegalaid.org//NONSGML kigkonsult.se iCalcreator 2.30.10//
CALSCALE:GREGORIAN
METHOD:PUBLISH
UID:af87a914-98b9-4d90-acc3-aba07185638b
X-WR-CALDESC:Walk-ins welcome!
X-WR-RELCALID:9bec01e5ff22e1314aa7b40fa46b6ea0
X-WR-TIMEZONE:America/Chicago
BEGIN:VTIMEZONE
TZID:America/Chicago
BEGIN:STANDARD
TZNAME:CST
DTSTART:20231105T020000
TZOFFSETFROM:-0500
TZOFFSETTO:-0600
RDATE:20241103T020000
END:STANDARD
BEGIN:DAYLIGHT
TZNAME:CDT
DTSTART:20240310T020000
TZOFFSETFROM:-0600
TZOFFSETTO:-0500
RDATE:20250309T020000
END:DAYLIGHT
END:VTIMEZONE
BEGIN:VEVENT
UID:55a97d17-c71f-4147-b360-6fe1b217e26e
DTSTAMP:20260421T113009Z
DESCRIPTION:Walk-ins welcome!
DTSTART;TZID=America/Chicago:20240321T100000
DTEND;TZID=America/Chicago:20240321T130000
LOCATION:Odell McCallum Community Center \, 325 Magnolia St. \, Wynne \, AR
  72396 US
SUMMARY:Estate Planning and Record Sealing Clinic
END:VEVENT
END:VCALENDAR
