BEGIN:VCALENDAR
VERSION:2.0
PRODID:-//arlegalaid.org//NONSGML kigkonsult.se iCalcreator 2.30.10//
CALSCALE:GREGORIAN
METHOD:PUBLISH
UID:c434c9dc-fc65-44fb-bb59-db050f2d8d11
X-WR-CALDESC:Sign up by clicking on the link.
X-WR-RELCALID:198c8fb2de15f766f934fb10886fdd8b
X-WR-TIMEZONE:America/Chicago
BEGIN:VTIMEZONE
TZID:America/Chicago
BEGIN:STANDARD
TZNAME:CST
DTSTART:20231105T020000
TZOFFSETFROM:-0500
TZOFFSETTO:-0600
RDATE:20241103T020000
END:STANDARD
BEGIN:DAYLIGHT
TZNAME:CDT
DTSTART:20240310T020000
TZOFFSETFROM:-0600
TZOFFSETTO:-0500
RDATE:20250309T020000
END:DAYLIGHT
END:VTIMEZONE
BEGIN:VEVENT
UID:bed788e9-0982-4613-a5a1-8e7ab3844229
DTSTAMP:20260421T113607Z
DESCRIPTION:Sign up by clicking on the link.
DTSTART;TZID=America/Chicago:20240322T090000
DTEND;TZID=America/Chicago:20240322T120000
LOCATION:Washington County Law Library
SUMMARY:Help Desk: Washington County Law Library
END:VEVENT
END:VCALENDAR
