BEGIN:VCALENDAR
VERSION:2.0
PRODID:-//arlegalaid.org//NONSGML kigkonsult.se iCalcreator 2.30.10//
CALSCALE:GREGORIAN
METHOD:PUBLISH
UID:f37a4e9d-d88d-4232-b1b5-de340f902ede
X-WR-CALDESC:
X-WR-RELCALID:ae594ce4ab52be10a276d2376366c89d
X-WR-TIMEZONE:America/Chicago
BEGIN:VTIMEZONE
TZID:America/Chicago
BEGIN:STANDARD
TZNAME:CST
DTSTART:20231105T020000
TZOFFSETFROM:-0500
TZOFFSETTO:-0600
RDATE:20241103T020000
END:STANDARD
BEGIN:DAYLIGHT
TZNAME:CDT
DTSTART:20240310T020000
TZOFFSETFROM:-0600
TZOFFSETTO:-0500
RDATE:20250309T020000
END:DAYLIGHT
END:VTIMEZONE
BEGIN:VEVENT
UID:f6525712-7767-426b-90c9-41b3f33e4826
DTSTAMP:20260421T113050Z
DESCRIPTION:
DTSTART;TZID=America/Chicago:20240328T160000
DTEND;TZID=America/Chicago:20240328T163000
LOCATION:https://www.facebook.com/arlegalaid
SUMMARY:FB Live in Spanish Medicaid and DHS Updates: Facebook En Vivo Actua
 lizaciones  de Medicaid/DHS
END:VEVENT
END:VCALENDAR
