BEGIN:VCALENDAR
VERSION:2.0
PRODID:-//arlegalaid.org//NONSGML kigkonsult.se iCalcreator 2.30.10//
CALSCALE:GREGORIAN
METHOD:PUBLISH
UID:073ba6c2-57b3-4279-8236-6fcc6ed394b9
X-WR-CALDESC:Sign up by clicking on the link.
X-WR-RELCALID:a56908b6cfab44c602eb6f8008bdb21b
X-WR-TIMEZONE:America/Chicago
BEGIN:VTIMEZONE
TZID:America/Chicago
BEGIN:STANDARD
TZNAME:CST
DTSTART:20231105T020000
TZOFFSETFROM:-0500
TZOFFSETTO:-0600
RDATE:20241103T020000
END:STANDARD
BEGIN:DAYLIGHT
TZNAME:CDT
DTSTART:20240310T020000
TZOFFSETFROM:-0600
TZOFFSETTO:-0500
RDATE:20250309T020000
END:DAYLIGHT
END:VTIMEZONE
BEGIN:VEVENT
UID:78b9ca59-cc41-4618-89ab-3e96e74d248b
DTSTAMP:20260421T113424Z
DESCRIPTION:Sign up by clicking on the link.
DTSTART;TZID=America/Chicago:20240329T090000
DTEND;TZID=America/Chicago:20240329T120000
LOCATION:Washington County Law Library
SUMMARY:Help Desk: Washington County Law Library
END:VEVENT
END:VCALENDAR
