BEGIN:VCALENDAR
VERSION:2.0
PRODID:-//arlegalaid.org//NONSGML kigkonsult.se iCalcreator 2.30.10//
CALSCALE:GREGORIAN
METHOD:PUBLISH
UID:90eabb3c-5b88-4d58-af79-6607b5646313
X-WR-CALDESC:Registration is required!
X-WR-RELCALID:4b5ad5b09caf483ebe5456c672fe0c4f
X-WR-TIMEZONE:America/Chicago
BEGIN:VTIMEZONE
TZID:America/Chicago
BEGIN:STANDARD
TZNAME:CST
DTSTART:20231105T020000
TZOFFSETFROM:-0500
TZOFFSETTO:-0600
RDATE:20241103T020000
END:STANDARD
BEGIN:DAYLIGHT
TZNAME:CDT
DTSTART:20240310T020000
TZOFFSETFROM:-0600
TZOFFSETTO:-0500
RDATE:20250309T020000
END:DAYLIGHT
END:VTIMEZONE
BEGIN:VEVENT
UID:0c61cfc1-ea12-4e33-b305-56c85066e416
DTSTAMP:20260421T112843Z
DESCRIPTION:Registration is required!
DTSTART;TZID=America/Chicago:20240329T120000
DTEND;TZID=America/Chicago:20240329T133000
LOCATION:https://us06web.zoom.us/meeting/register/tZIkf--ppzsiHtQEy2ET9XJqf
 xHJvBK2qVdw
SUMMARY:Fair Housing Tester Training
END:VEVENT
END:VCALENDAR
