BEGIN:VCALENDAR
VERSION:2.0
PRODID:-//arlegalaid.org//NONSGML kigkonsult.se iCalcreator 2.30.10//
CALSCALE:GREGORIAN
METHOD:PUBLISH
UID:fcf2aa07-7afb-452c-9fef-681adf4a2f87
X-WR-CALDESC:
X-WR-RELCALID:783904fa9f84c79bf8036a60edfc8918
X-WR-TIMEZONE:America/Chicago
BEGIN:VTIMEZONE
TZID:America/Chicago
BEGIN:STANDARD
TZNAME:CST
DTSTART:20231105T020000
TZOFFSETFROM:-0500
TZOFFSETTO:-0600
RDATE:20241103T020000
END:STANDARD
BEGIN:DAYLIGHT
TZNAME:CDT
DTSTART:20240310T020000
TZOFFSETFROM:-0600
TZOFFSETTO:-0500
RDATE:20250309T020000
END:DAYLIGHT
END:VTIMEZONE
BEGIN:VEVENT
UID:73e5d00f-b5fa-44ad-9c2a-d358f99eaaa8
DTSTAMP:20260423T094659Z
DESCRIPTION:
DTSTART;TZID=America/Chicago:20240405T120000
DTEND;TZID=America/Chicago:20240405T140000
LOCATION:https://l.facebook.com/l.php?u=https%3A%2F%2Fus06web.zoom.us%2Fmee
 ting%2Fregister%2FtZIkf--ppzsiHtQEy2ET9XJqfxHJvBK2qVdw%3Ffbclid%3DIwAR0LRs
 wo9LA6IkZWofPacq9GCH70NOY9IlSJ8z7uua4rnhZSD-w-tBRPNiQ_aem_ATkgen-JeCF0Gtkd
 78H8f1O7ZO5RlHkOS5sCeMgf-tVcU_p6awHsrYqMx
SUMMARY:Fair Housing Tester Training
END:VEVENT
END:VCALENDAR
