BEGIN:VCALENDAR
VERSION:2.0
PRODID:-//arlegalaid.org//NONSGML kigkonsult.se iCalcreator 2.30.10//
CALSCALE:GREGORIAN
METHOD:PUBLISH
UID:dcb1c0b7-e6dc-478d-884b-f5fa2b5efcc4
X-WR-CALDESC:Sign up by clicking on the link.
X-WR-RELCALID:47e2269eab4f3fadacc5b0907332efff
X-WR-TIMEZONE:America/Chicago
BEGIN:VTIMEZONE
TZID:America/Chicago
BEGIN:STANDARD
TZNAME:CST
DTSTART:20231105T020000
TZOFFSETFROM:-0500
TZOFFSETTO:-0600
RDATE:20241103T020000
END:STANDARD
BEGIN:DAYLIGHT
TZNAME:CDT
DTSTART:20240310T020000
TZOFFSETFROM:-0600
TZOFFSETTO:-0500
RDATE:20250309T020000
END:DAYLIGHT
END:VTIMEZONE
BEGIN:VEVENT
UID:917c7368-85d0-4ede-8293-2b7252b19a37
DTSTAMP:20260421T094403Z
DESCRIPTION:Sign up by clicking on the link.
DTSTART;TZID=America/Chicago:20240412T090000
DTEND;TZID=America/Chicago:20240412T120000
LOCATION:Washington County Law Library
SUMMARY:Help Desk: Washington County Law Library
END:VEVENT
END:VCALENDAR
