BEGIN:VCALENDAR
VERSION:2.0
PRODID:-//arlegalaid.org//NONSGML kigkonsult.se iCalcreator 2.30.10//
CALSCALE:GREGORIAN
METHOD:PUBLISH
UID:3c03d8b8-c690-481f-b900-0fcdb2c71064
X-WR-CALDESC:Registration recommended but not required! \n Use QR Code or U
 RL or Call
X-WR-RELCALID:c9478495cf3993534ce6ddb73ff026be
X-WR-TIMEZONE:America/Chicago
BEGIN:VTIMEZONE
TZID:America/Chicago
BEGIN:STANDARD
TZNAME:CST
DTSTART:20231105T020000
TZOFFSETFROM:-0500
TZOFFSETTO:-0600
RDATE:20241103T020000
END:STANDARD
BEGIN:DAYLIGHT
TZNAME:CDT
DTSTART:20240310T020000
TZOFFSETFROM:-0600
TZOFFSETTO:-0500
RDATE:20250309T020000
END:DAYLIGHT
END:VTIMEZONE
BEGIN:VEVENT
UID:32874813-90fb-480c-9ddb-c2dff90f0245
DTSTAMP:20260421T093958Z
DESCRIPTION:Registration recommended but not required! \n Use QR Code or UR
 L or Call
DTSTART;TZID=America/Chicago:20240417T100000
DTEND;TZID=America/Chicago:20240417T140000
LOCATION:8616 Colonel Glenn Rd\, 325 Magnolia St. \, Little Rock \, AR 7220
 4 US
SUMMARY:Housing Stability Clinic
END:VEVENT
END:VCALENDAR
