BEGIN:VCALENDAR
VERSION:2.0
PRODID:-//arlegalaid.org//NONSGML kigkonsult.se iCalcreator 2.30.10//
CALSCALE:GREGORIAN
METHOD:PUBLISH
UID:489c1cd6-e09f-4d5d-b8bd-89930ec0e165
X-WR-CALDESC:Sign up by clicking on the link.
X-WR-RELCALID:a00d1c769c586bad081991a2e752e122
X-WR-TIMEZONE:America/Chicago
BEGIN:VTIMEZONE
TZID:America/Chicago
BEGIN:STANDARD
TZNAME:CST
DTSTART:20231105T020000
TZOFFSETFROM:-0500
TZOFFSETTO:-0600
RDATE:20241103T020000
END:STANDARD
BEGIN:DAYLIGHT
TZNAME:CDT
DTSTART:20240310T020000
TZOFFSETFROM:-0600
TZOFFSETTO:-0500
RDATE:20250309T020000
END:DAYLIGHT
END:VTIMEZONE
BEGIN:VEVENT
UID:c11a3f64-bdf8-48db-b983-53a3bb466133
DTSTAMP:20260421T135729Z
DESCRIPTION:Sign up by clicking on the link.
DTSTART;TZID=America/Chicago:20240419T090000
DTEND;TZID=America/Chicago:20240419T120000
LOCATION:Washington County Law Library
SUMMARY:Help Desk: Washington County Law Library
END:VEVENT
END:VCALENDAR
