BEGIN:VCALENDAR
VERSION:2.0
PRODID:-//arlegalaid.org//NONSGML kigkonsult.se iCalcreator 2.30.10//
CALSCALE:GREGORIAN
METHOD:PUBLISH
UID:e3d1d58f-4e7d-4110-a8e6-b4e122840296
X-WR-CALDESC:For Records in: \n\nWashington County and city/district court 
 changes including Johnson\, West Fork\, Tontitown\, Elm Springs\, Springda
 le\, Fayetteville\, Elkins\, Farmington\, Prairie Grove\, Lincoln. \n\nReg
 istration REQUIRED: Call 1-870-972-9224 ext. 4324\n\nScan QR Code or USE U
 rl: https://forms.office.com/pages/responsepage.aspx?id=gYH0sXaBNU6hHwlChZ
 L7waeqCqiRJ3BPvkT-lu-8QzRUMzc1N1hETzdDNTcxWTJaRTFHNDNYOFg3VC4u\n\n\n\n
X-WR-RELCALID:0d411d4144683764c000ca934cb12a89
X-WR-TIMEZONE:America/Chicago
BEGIN:VTIMEZONE
TZID:America/Chicago
BEGIN:STANDARD
TZNAME:CST
DTSTART:20231105T020000
TZOFFSETFROM:-0500
TZOFFSETTO:-0600
RDATE:20241103T020000
END:STANDARD
BEGIN:DAYLIGHT
TZNAME:CDT
DTSTART:20240310T020000
TZOFFSETFROM:-0600
TZOFFSETTO:-0500
RDATE:20250309T020000
END:DAYLIGHT
END:VTIMEZONE
BEGIN:VEVENT
UID:05baabd4-8943-4b1e-bf57-551a7da7139d
DTSTAMP:20260423T093546Z
DESCRIPTION:For Records in: \n\nWashington County and city/district court c
 hanges including Johnson\, West Fork\, Tontitown\, Elm Springs\, Springdal
 e\, Fayetteville\, Elkins\, Farmington\, Prairie Grove\, Lincoln. \n\nRegi
 stration REQUIRED: Call 1-870-972-9224 ext. 4324\n\nScan QR Code or USE Ur
 l: https://forms.office.com/pages/responsepage.aspx?id=gYH0sXaBNU6hHwlChZL
 7waeqCqiRJ3BPvkT-lu-8QzRUMzc1N1hETzdDNTcxWTJaRTFHNDNYOFg3VC4u\n\n\n\n
DTSTART;TZID=America/Chicago:20240422T160000
DTEND;TZID=America/Chicago:20240422T200000
LOCATION:
SUMMARY:Free Record Sealing Clinic
END:VEVENT
END:VCALENDAR
