BEGIN:VCALENDAR
VERSION:2.0
PRODID:-//arlegalaid.org//NONSGML kigkonsult.se iCalcreator 2.30.10//
CALSCALE:GREGORIAN
METHOD:PUBLISH
UID:81f5a6d2-3529-4a3c-9cad-25ca31ba762b
X-WR-CALDESC:
X-WR-RELCALID:e4cc0f590fa0eb3827c94be8c283a387
X-WR-TIMEZONE:America/Chicago
BEGIN:VTIMEZONE
TZID:America/Chicago
BEGIN:STANDARD
TZNAME:CST
DTSTART:20231105T020000
TZOFFSETFROM:-0500
TZOFFSETTO:-0600
RDATE:20241103T020000
END:STANDARD
BEGIN:DAYLIGHT
TZNAME:CDT
DTSTART:20240310T020000
TZOFFSETFROM:-0600
TZOFFSETTO:-0500
RDATE:20250309T020000
END:DAYLIGHT
END:VTIMEZONE
BEGIN:VEVENT
UID:a0f86f6c-c940-429e-b84e-7b55a678aa6b
DTSTAMP:20260419T144112Z
DESCRIPTION:
DTSTART;TZID=America/Chicago:20240424T100000
DTEND;TZID=America/Chicago:20240424T130000
LOCATION:823 North Buchanan Street Meeting Room \, Little Rock \, AR 72701 
 US
SUMMARY:Legal Help Desk: Free Legal and Tax Assistance
END:VEVENT
END:VCALENDAR
