BEGIN:VCALENDAR
VERSION:2.0
PRODID:-//arlegalaid.org//NONSGML kigkonsult.se iCalcreator 2.30.10//
CALSCALE:GREGORIAN
METHOD:PUBLISH
UID:57bac3c8-0e16-4254-a84f-a2a7c30689dd
X-WR-CALDESC:To register please scan the QR code\, click on link\, or call 
 us at 1-870-972-9224 ext. 4303
X-WR-RELCALID:0c17d6d7323a7f01be80971bc64a7660
X-WR-TIMEZONE:America/Chicago
BEGIN:VTIMEZONE
TZID:America/Chicago
BEGIN:STANDARD
TZNAME:CST
DTSTART:20231105T020000
TZOFFSETFROM:-0500
TZOFFSETTO:-0600
RDATE:20241103T020000
END:STANDARD
BEGIN:DAYLIGHT
TZNAME:CDT
DTSTART:20240310T020000
TZOFFSETFROM:-0600
TZOFFSETTO:-0500
RDATE:20250309T020000
END:DAYLIGHT
END:VTIMEZONE
BEGIN:VEVENT
UID:11c6eaca-f3ac-428d-8e29-dc659e025806
DTSTAMP:20260421T100003Z
DESCRIPTION:To register please scan the QR code\, click on link\, or call u
 s at 1-870-972-9224 ext. 4303
DTSTART;TZID=America/Chicago:20240425T100000
DTEND;TZID=America/Chicago:20240425T140000
LOCATION:306 US 49 \, Marvell\, AR 72701 US
SUMMARY:Estate Planning and Record Sealing
END:VEVENT
END:VCALENDAR
