BEGIN:VCALENDAR
VERSION:2.0
PRODID:-//arlegalaid.org//NONSGML kigkonsult.se iCalcreator 2.30.10//
CALSCALE:GREGORIAN
METHOD:PUBLISH
UID:eea519ca-25ee-4ee8-814a-2cab2c0cb2ac
X-WR-CALDESC:Sign up by clicking on the link.
X-WR-RELCALID:6dc51f529edd82d2bcbc44db8a54784c
X-WR-TIMEZONE:America/Chicago
BEGIN:VTIMEZONE
TZID:America/Chicago
BEGIN:STANDARD
TZNAME:CST
DTSTART:20231105T020000
TZOFFSETFROM:-0500
TZOFFSETTO:-0600
RDATE:20241103T020000
END:STANDARD
BEGIN:DAYLIGHT
TZNAME:CDT
DTSTART:20240310T020000
TZOFFSETFROM:-0600
TZOFFSETTO:-0500
RDATE:20250309T020000
END:DAYLIGHT
END:VTIMEZONE
BEGIN:VEVENT
UID:f4b25d7b-4537-4ca2-b573-3a064aa08ea8
DTSTAMP:20260421T095845Z
DESCRIPTION:Sign up by clicking on the link.
DTSTART;TZID=America/Chicago:20240426T090000
DTEND;TZID=America/Chicago:20240426T120000
LOCATION:Washington County Law Library
SUMMARY:Help Desk: Washington County Law Library
END:VEVENT
END:VCALENDAR
