BEGIN:VCALENDAR
VERSION:2.0
PRODID:-//arlegalaid.org//NONSGML kigkonsult.se iCalcreator 2.30.10//
CALSCALE:GREGORIAN
METHOD:PUBLISH
UID:219c9af3-812d-43d8-9af1-6e43299aee15
X-WR-CALDESC:
X-WR-RELCALID:06543c61a5e07d8dcf8c6a00c7663f94
X-WR-TIMEZONE:America/Chicago
BEGIN:VTIMEZONE
TZID:America/Chicago
BEGIN:STANDARD
TZNAME:CST
DTSTART:20231105T020000
TZOFFSETFROM:-0500
TZOFFSETTO:-0600
RDATE:20241103T020000
END:STANDARD
BEGIN:DAYLIGHT
TZNAME:CDT
DTSTART:20240310T020000
TZOFFSETFROM:-0600
TZOFFSETTO:-0500
RDATE:20250309T020000
END:DAYLIGHT
END:VTIMEZONE
BEGIN:VEVENT
UID:0c3c6c9c-e296-4470-a930-c4a635d43d6d
DTSTAMP:20260421T094516Z
DESCRIPTION:
DTSTART;TZID=America/Chicago:20240426T100000
DTEND;TZID=America/Chicago:20240426T150000
LOCATION:Signature Bank Tower\, 303 N Main St. Harrison\, AR
SUMMARY:FREE Record Sealing Clinic
END:VEVENT
END:VCALENDAR
