BEGIN:VCALENDAR
VERSION:2.0
PRODID:-//arlegalaid.org//NONSGML kigkonsult.se iCalcreator 2.30.10//
CALSCALE:GREGORIAN
METHOD:PUBLISH
UID:78c1e8e3-3ac5-4e2f-87ac-7cf9e0324b91
X-WR-CALDESC:Sign up by clicking on the link.
X-WR-RELCALID:ff714710f180c35a7ae2dfbb23914ea4
X-WR-TIMEZONE:America/Chicago
BEGIN:VTIMEZONE
TZID:America/Chicago
BEGIN:STANDARD
TZNAME:CST
DTSTART:20231105T020000
TZOFFSETFROM:-0500
TZOFFSETTO:-0600
RDATE:20241103T020000
RDATE:20251102T020000
END:STANDARD
BEGIN:DAYLIGHT
TZNAME:CDT
DTSTART:20240310T020000
TZOFFSETFROM:-0600
TZOFFSETTO:-0500
RDATE:20250309T020000
END:DAYLIGHT
END:VTIMEZONE
BEGIN:VEVENT
UID:eb1d9617-2afc-4194-bcb4-74c573fee003
DTSTAMP:20260421T083754Z
DESCRIPTION:Sign up by clicking on the link.
DTSTART;TZID=America/Chicago:20240503T090000
DTEND;TZID=America/Chicago:20240503T120000
LOCATION:Washington County Law Library
SUMMARY:Help Desk: Washington County Law Library
END:VEVENT
END:VCALENDAR
