BEGIN:VCALENDAR
VERSION:2.0
PRODID:-//arlegalaid.org//NONSGML kigkonsult.se iCalcreator 2.30.10//
CALSCALE:GREGORIAN
METHOD:PUBLISH
UID:ad1b8b7b-3770-4069-b74c-0c026df9494a
X-WR-CALDESC:
X-WR-RELCALID:c2a553eef5cd55b05960db6d1558765c
X-WR-TIMEZONE:America/Chicago
BEGIN:VTIMEZONE
TZID:America/Chicago
BEGIN:STANDARD
TZNAME:CST
DTSTART:20231105T020000
TZOFFSETFROM:-0500
TZOFFSETTO:-0600
RDATE:20241103T020000
RDATE:20251102T020000
END:STANDARD
BEGIN:DAYLIGHT
TZNAME:CDT
DTSTART:20240310T020000
TZOFFSETFROM:-0600
TZOFFSETTO:-0500
RDATE:20250309T020000
END:DAYLIGHT
END:VTIMEZONE
BEGIN:VEVENT
UID:814b88c9-710f-49e6-ae35-4efc86686724
DTSTAMP:20260421T083607Z
DESCRIPTION:
DTSTART;TZID=America/Chicago:20240509T083000
DTEND;TZID=America/Chicago:20240509T150000
LOCATION:Hilton Garden Inn \, 2840 S Caraway Rd \, Jonesboro\, AR 72401 US
SUMMARY:Empower Care Conference
END:VEVENT
END:VCALENDAR
