BEGIN:VCALENDAR
VERSION:2.0
PRODID:-//arlegalaid.org//NONSGML kigkonsult.se iCalcreator 2.30.10//
CALSCALE:GREGORIAN
METHOD:PUBLISH
UID:33852ad7-72b7-4bd1-870c-8f6095ae50be
X-WR-CALDESC:Sign up by clicking on the link.
X-WR-RELCALID:31776b32c6cb3ddb56dd961687b955aa
X-WR-TIMEZONE:America/Chicago
BEGIN:VTIMEZONE
TZID:America/Chicago
BEGIN:STANDARD
TZNAME:CST
DTSTART:20231105T020000
TZOFFSETFROM:-0500
TZOFFSETTO:-0600
RDATE:20241103T020000
RDATE:20251102T020000
END:STANDARD
BEGIN:DAYLIGHT
TZNAME:CDT
DTSTART:20240310T020000
TZOFFSETFROM:-0600
TZOFFSETTO:-0500
RDATE:20250309T020000
END:DAYLIGHT
END:VTIMEZONE
BEGIN:VEVENT
UID:39b81007-5b29-40fa-87a6-ef6a833774e1
DTSTAMP:20260419T131026Z
DESCRIPTION:Sign up by clicking on the link.
DTSTART;TZID=America/Chicago:20240510T090000
DTEND;TZID=America/Chicago:20240510T120000
LOCATION:Washington County Law Library
SUMMARY:Help Desk: Washington County Law Library
END:VEVENT
END:VCALENDAR
