BEGIN:VCALENDAR
VERSION:2.0
PRODID:-//arlegalaid.org//NONSGML kigkonsult.se iCalcreator 2.30.10//
CALSCALE:GREGORIAN
METHOD:PUBLISH
UID:0dacf260-e854-4f5a-879e-74b5e017a5d4
X-WR-CALDESC:Sign up by clicking on the link.
X-WR-RELCALID:3de4fbaf5a3b26a0a5f3e748a0583d06
X-WR-TIMEZONE:America/Chicago
BEGIN:VTIMEZONE
TZID:America/Chicago
BEGIN:STANDARD
TZNAME:CST
DTSTART:20231105T020000
TZOFFSETFROM:-0500
TZOFFSETTO:-0600
RDATE:20241103T020000
RDATE:20251102T020000
END:STANDARD
BEGIN:DAYLIGHT
TZNAME:CDT
DTSTART:20240310T020000
TZOFFSETFROM:-0600
TZOFFSETTO:-0500
RDATE:20250309T020000
END:DAYLIGHT
END:VTIMEZONE
BEGIN:VEVENT
UID:dc742090-11e6-43fa-a40b-5442408e9b92
DTSTAMP:20260423T080853Z
DESCRIPTION:Sign up by clicking on the link.
DTSTART;TZID=America/Chicago:20240517T090000
DTEND;TZID=America/Chicago:20240517T120000
LOCATION:Washington County Law Library
SUMMARY:Help Desk: Washington County Law Library
END:VEVENT
END:VCALENDAR
