BEGIN:VCALENDAR
VERSION:2.0
PRODID:-//arlegalaid.org//NONSGML kigkonsult.se iCalcreator 2.30.10//
CALSCALE:GREGORIAN
METHOD:PUBLISH
UID:10531425-a1a4-455e-a10d-9c387d1ee7d4
X-WR-CALDESC:
X-WR-RELCALID:c17bc408bf0695f303056e9e2898aff9
X-WR-TIMEZONE:America/Chicago
BEGIN:VTIMEZONE
TZID:America/Chicago
BEGIN:STANDARD
TZNAME:CST
DTSTART:20231105T020000
TZOFFSETFROM:-0500
TZOFFSETTO:-0600
RDATE:20241103T020000
RDATE:20251102T020000
END:STANDARD
BEGIN:DAYLIGHT
TZNAME:CDT
DTSTART:20240310T020000
TZOFFSETFROM:-0600
TZOFFSETTO:-0500
RDATE:20250309T020000
END:DAYLIGHT
END:VTIMEZONE
BEGIN:VEVENT
UID:4b413d40-1a85-4317-81d4-b6a4a0f1dd2d
DTSTAMP:20260421T083551Z
DESCRIPTION:
DTSTART;TZID=America/Chicago:20240517T110000
DTEND;TZID=America/Chicago:20240517T140000
LOCATION:Bob Davis Veterans' Center \, 421 E 9th St. \, Mountain Home \, AR
  72653 US
SUMMARY:Estate Planning and Record Sealing
END:VEVENT
END:VCALENDAR
