BEGIN:VCALENDAR
VERSION:2.0
PRODID:-//arlegalaid.org//NONSGML kigkonsult.se iCalcreator 2.30.10//
CALSCALE:GREGORIAN
METHOD:PUBLISH
UID:5dba22c4-43ce-4128-9011-ac082d4fc297
X-WR-CALDESC:Sign up by clicking on the link.
X-WR-RELCALID:4a6e18233576c20d9b431df1d56332f0
X-WR-TIMEZONE:America/Chicago
BEGIN:VTIMEZONE
TZID:America/Chicago
BEGIN:STANDARD
TZNAME:CST
DTSTART:20231105T020000
TZOFFSETFROM:-0500
TZOFFSETTO:-0600
RDATE:20241103T020000
RDATE:20251102T020000
END:STANDARD
BEGIN:DAYLIGHT
TZNAME:CDT
DTSTART:20240310T020000
TZOFFSETFROM:-0600
TZOFFSETTO:-0500
RDATE:20250309T020000
END:DAYLIGHT
END:VTIMEZONE
BEGIN:VEVENT
UID:9cca3aa4-b1d3-47b0-b2d0-ef0a1a219dfd
DTSTAMP:20260421T080735Z
DESCRIPTION:Sign up by clicking on the link.
DTSTART;TZID=America/Chicago:20240524T090000
DTEND;TZID=America/Chicago:20240524T120000
LOCATION:Washington County Law Library
SUMMARY:Help Desk: Washington County Law Library
END:VEVENT
END:VCALENDAR
