BEGIN:VCALENDAR
VERSION:2.0
PRODID:-//arlegalaid.org//NONSGML kigkonsult.se iCalcreator 2.30.10//
CALSCALE:GREGORIAN
METHOD:PUBLISH
UID:67c73a78-0f39-4467-940e-8ec570df012e
X-WR-CALDESC:Sign up by clicking on the link.
X-WR-RELCALID:1b55552a83ab51e657f9a6471d18b8c6
X-WR-TIMEZONE:America/Chicago
BEGIN:VTIMEZONE
TZID:America/Chicago
BEGIN:STANDARD
TZNAME:CST
DTSTART:20231105T020000
TZOFFSETFROM:-0500
TZOFFSETTO:-0600
RDATE:20241103T020000
RDATE:20251102T020000
END:STANDARD
BEGIN:DAYLIGHT
TZNAME:CDT
DTSTART:20240310T020000
TZOFFSETFROM:-0600
TZOFFSETTO:-0500
RDATE:20250309T020000
END:DAYLIGHT
END:VTIMEZONE
BEGIN:VEVENT
UID:8e30486b-6869-482e-92b8-e6591981737a
DTSTAMP:20260421T083259Z
DESCRIPTION:Sign up by clicking on the link.
DTSTART;TZID=America/Chicago:20240531T090000
DTEND;TZID=America/Chicago:20240531T120000
LOCATION:Washington County Law Library
SUMMARY:Help Desk: Washington County Law Library
END:VEVENT
END:VCALENDAR
