BEGIN:VCALENDAR
VERSION:2.0
PRODID:-//arlegalaid.org//NONSGML kigkonsult.se iCalcreator 2.30.10//
CALSCALE:GREGORIAN
METHOD:PUBLISH
UID:b37cc24b-fcd0-40a7-8c95-3e7ad56b4ede
X-WR-CALDESC:
X-WR-RELCALID:5166a8bd0e7a919eabe49c2cb9ff8725
X-WR-TIMEZONE:America/Chicago
BEGIN:VTIMEZONE
TZID:America/Chicago
BEGIN:STANDARD
TZNAME:CST
DTSTART:20231105T020000
TZOFFSETFROM:-0500
TZOFFSETTO:-0600
RDATE:20241103T020000
RDATE:20251102T020000
END:STANDARD
BEGIN:DAYLIGHT
TZNAME:CDT
DTSTART:20240310T020000
TZOFFSETFROM:-0600
TZOFFSETTO:-0500
RDATE:20250309T020000
RDATE:20260308T020000
END:DAYLIGHT
END:VTIMEZONE
BEGIN:VEVENT
UID:a2418864-5330-4259-b919-d3cdd0153d4b
DTSTAMP:20260420T043741Z
DESCRIPTION:
DTSTART;TZID=America/Chicago:20241016T090000
DTEND;TZID=America/Chicago:20241016T120000
LOCATION:44 kings Highway Community Room \, Eureka Springs\, AR 72632 US
SUMMARY:FREE Legal and Tax Assistance in Eureka Springs
END:VEVENT
END:VCALENDAR
